BEGIN:VCALENDAR
VERSION:2.0
PRODID:-//Hubertus Sandizell - ECPv6.15.20//NONSGML v1.0//EN
CALSCALE:GREGORIAN
METHOD:PUBLISH
X-WR-CALNAME:Hubertus Sandizell
X-ORIGINAL-URL:https://hubertus-sandizell.de
X-WR-CALDESC:Veranstaltungen für Hubertus Sandizell
REFRESH-INTERVAL;VALUE=DURATION:PT1H
X-Robots-Tag:noindex
X-PUBLISHED-TTL:PT1H
BEGIN:VTIMEZONE
TZID:UTC
BEGIN:STANDARD
TZOFFSETFROM:+0000
TZOFFSETTO:+0000
TZNAME:UTC
DTSTART:20250101T000000
END:STANDARD
END:VTIMEZONE
BEGIN:VEVENT
DTSTART;TZID=UTC:20260530T090000
DTEND;TZID=UTC:20260530T120000
DTSTAMP:20260422T083615
CREATED:20251224T143657Z
LAST-MODIFIED:20251224T143657Z
UID:222-1780131600-1780142400@hubertus-sandizell.de
SUMMARY:Altpapiersammlung 30.05.2026
DESCRIPTION:Wo? Sandizell\, Gollingkreut und Öd \nWie? Das Papier wird direkt bei Ihnen abgeholt. \nWeitere Infos: \n\nkeine Kartonagen\nBitte am 9 Uhr am Straßenrand bereit stellen\n\nFür Ihre Papierspende bedankt sich herzlich der Schützenverein Hubertus Sandizell e.V.
URL:https://hubertus-sandizell.de/event/altpapiersammlung-30-05-2026/
END:VEVENT
BEGIN:VEVENT
DTSTART;TZID=UTC:20260919T090000
DTEND;TZID=UTC:20260919T120000
DTSTAMP:20260422T083615
CREATED:20251224T143755Z
LAST-MODIFIED:20251224T143755Z
UID:224-1789808400-1789819200@hubertus-sandizell.de
SUMMARY:Altpapiersammlung 19.09.2026
DESCRIPTION:Wo? Sandizell\, Gollingkreut und Öd \nWie? Das Papier wird direkt bei Ihnen abgeholt. \nWeitere Infos: \n\nkeine Kartonagen\nBitte am 9 Uhr am Straßenrand bereit stellen\n\nFür Ihre Papierspende bedankt sich herzlich der Schützenverein Hubertus Sandizell e.V.
URL:https://hubertus-sandizell.de/event/altpapiersammlung-19-09-2026/
END:VEVENT
END:VCALENDAR